BEGIN:VCALENDAR
VERSION:2.0
PRODID:-//hacksw/handcal//NONSGML v1.0//EN
CALSCALE:GREGORIAN
BEGIN:VEVENT
ORGANIZER;CN=AEye, Inc.:MAILTO:no-reply@gcs-web.com
DTEND:
UID:45a6ffa2-8a53-4138-85d3-1fa8058d6b57
DTSTAMP:1777132101
LOCATION:https://edge.media-server.com/mmc/p/799vhiag/
DESCRIPTION:Event Details https://investors.aeye.ai/events/event-details/aeye-q1-2026-earnings-conference-call\n\nWebcast: https://edge.media-server.com/mmc/p/799vhiag/
URL;VALUE=URI:https://edge.media-server.com/mmc/p/799vhiag/
SUMMARY:AEye, Inc. - AEye Q1 2026 Earnings Conference Call
DTSTART:20260513T210000Z
END:VEVENT
END:VCALENDAR